BEGIN:VCALENDAR
VERSION:2.0
PRODID:-//SportsPilot + North Texas Premier Soccer Association/
METHOD:PUBLISH
BEGIN:VEVENT
UID:1330003
DTSTAMP:20260419T080300Z
SUMMARY: Game:1330003: Inferno Legends FC VS El Salvador
DESCRIPTION: Location: Five Star Complex - The Colony / FS #2
DTSTART:20220911T013000Z
DTEND:20220911T030000Z
END:VEVENT
BEGIN:VEVENT
UID:1330004
DTSTAMP:20260419T080300Z
SUMMARY: Game:1330004: El Salvador VS Club Deportivo Inca
DESCRIPTION: Location: Prem / Premier Park #1
DTSTART:20220918T180000Z
DTEND:20220918T193000Z
END:VEVENT
BEGIN:VEVENT
UID:1330008
DTSTAMP:20260419T080300Z
SUMMARY: Game:1330008: C D Halcones VS El Salvador
DESCRIPTION: Location: Prem / Premier Park #2
DTSTART:20220925T180000Z
DTEND:20220925T193000Z
END:VEVENT
BEGIN:VEVENT
UID:1330011
DTSTAMP:20260419T080300Z
SUMMARY: Game:1330011: Titans 50 VS El Salvador
DESCRIPTION: Location: Prem / Premier Park #3
DTSTART:20221002T180000Z
DTEND:20221002T193000Z
END:VEVENT
BEGIN:VEVENT
UID:1330014
DTSTAMP:20260419T080300Z
SUMMARY: Game:1330014: El Salvador VS Colorado
DESCRIPTION: Location: Prem / Premier Park #1
DTSTART:20221009T180000Z
DTEND:20221009T193000Z
END:VEVENT
BEGIN:VEVENT
UID:1330020
DTSTAMP:20260419T080300Z
SUMMARY: Game:1330020: Club Deportivo Inca VS El Salvador
DESCRIPTION: Location: Prem / Premier Park #1
DTSTART:20221023T180000Z
DTEND:20221023T193000Z
END:VEVENT
BEGIN:VEVENT
UID:1330024
DTSTAMP:20260419T080300Z
SUMMARY: Game:1330024: El Salvador VS C D Halcones
DESCRIPTION: Location: Prem / Premier Park #1
DTSTART:20221113T170000Z
DTEND:20221113T183000Z
END:VEVENT
BEGIN:VEVENT
UID:1330016
DTSTAMP:20260419T080300Z
SUMMARY: Game:1330016: El Salvador VS Inferno Legends FC
DESCRIPTION: Location: Five Star Complex - The Colony / FS #8
DTSTART:20221118T023000Z
DTEND:20221118T040000Z
END:VEVENT
END:VCALENDAR
