BEGIN:VCALENDAR
VERSION:2.0
PRODID:-//SportsPilot + North Texas Premier Soccer Association/
METHOD:PUBLISH
BEGIN:VEVENT
UID:20002
DTSTAMP:20260424T054400Z
SUMMARY: Game:20002: GUNNERS FC VS CLUB TIBURONES
DESCRIPTION: Location: Breckinridge Park A - Richardson / BP #A9
DTSTART:20200913T160000Z
DTEND:20200913T173000Z
END:VEVENT
BEGIN:VEVENT
UID:20005
DTSTAMP:20260424T054400Z
SUMMARY: Game:20005: GUNNERS FC VS G.O.A.T. UNITED
DESCRIPTION: Location: Five Star Complex - The Colony / FS #8
DTSTART:20200920T220000Z
DTEND:20200920T233000Z
END:VEVENT
BEGIN:VEVENT
UID:20009
DTSTAMP:20260424T054400Z
SUMMARY: Game:20009: GUNNERS FC VS MASS FC
DESCRIPTION: Location: Prem / Premier Park #3
DTSTART:20200927T160000Z
DTEND:20200927T173000Z
END:VEVENT
BEGIN:VEVENT
UID:20011
DTSTAMP:20260424T054400Z
SUMMARY: Game:20011: GUNNERS FC VS NORTH TEXAS WOLVES
DESCRIPTION: Location: R.E. Good Sports Complex - Carrollton / RE #4
DTSTART:20201004T180000Z
DTEND:20201004T193000Z
END:VEVENT
BEGIN:VEVENT
UID:20015
DTSTAMP:20260424T054400Z
SUMMARY: Game:20015: MEAN MACHINE VS GUNNERS FC
DESCRIPTION: Location: Breckinridge Park A - Richardson / BP #A9
DTSTART:20201011T200000Z
DTEND:20201011T213000Z
END:VEVENT
BEGIN:VEVENT
UID:20018
DTSTAMP:20260424T054400Z
SUMMARY: Game:20018: CLUB TIBURONES VS GUNNERS FC
DESCRIPTION: Location: Breckinridge Park A - Richardson / BP #A9
DTSTART:20201018T160000Z
DTEND:20201018T173000Z
END:VEVENT
BEGIN:VEVENT
UID:20021
DTSTAMP:20260424T054400Z
SUMMARY: Game:20021: G.O.A.T. UNITED VS GUNNERS FC
DESCRIPTION: Location: Breckinridge Park A - Richardson / BP #A9
DTSTART:20201025T200000Z
DTEND:20201025T213000Z
END:VEVENT
BEGIN:VEVENT
UID:20022
DTSTAMP:20260424T054400Z
SUMMARY: Game:20022: MASS FC VS GUNNERS FC
DESCRIPTION: Location: Breckinridge Park A - Richardson / BP #A9
DTSTART:20201101T170000Z
DTEND:20201101T183000Z
END:VEVENT
END:VCALENDAR
