BEGIN:VCALENDAR
VERSION:2.0
PRODID:-//SportsPilot + North Texas Premier Soccer Association/
METHOD:PUBLISH
BEGIN:VEVENT
UID:360005
DTSTAMP:20260419T134200Z
SUMMARY: Game:360005: Cruz Azul VS Texas Elite 04
DESCRIPTION: Location: Five Star Complex - The Colony / FS #2
DTSTART:20210307T210000Z
DTEND:20210307T223000Z
END:VEVENT
BEGIN:VEVENT
UID:360007
DTSTAMP:20260419T134200Z
SUMMARY: Game:360007: Texas Elite 04 VS Boones United
DESCRIPTION: Location: R.E. Good Sports Complex - Carrollton / RE #1
DTSTART:20210314T200000Z
DTEND:20210314T213000Z
END:VEVENT
BEGIN:VEVENT
UID:360010
DTSTAMP:20260419T134200Z
SUMMARY: Game:360010: MARU FC VS Texas Elite 04
DESCRIPTION: Location: Five Star Complex - The Colony / FS #8
DTSTART:20210321T220000Z
DTEND:20210321T233000Z
END:VEVENT
BEGIN:VEVENT
UID:360013
DTSTAMP:20260419T134200Z
SUMMARY: Game:360013: Texas Elite 04 VS Stars UTD
DESCRIPTION: Location: Breckinridge Park A - Richardson / BP #A11
DTSTART:20210328T180000Z
DTEND:20210328T193000Z
END:VEVENT
BEGIN:VEVENT
UID:360021
DTSTAMP:20260419T134200Z
SUMMARY: Game:360021: Texas Elite 04 VS Cruz Azul
DESCRIPTION: Location: Prem / Premier Park #4
DTSTART:20210411T200000Z
DTEND:20210411T213000Z
END:VEVENT
BEGIN:VEVENT
UID:360016
DTSTAMP:20260419T134200Z
SUMMARY: Game:360016: Vietnam Dallas FC 30 VS Texas Elite 04
DESCRIPTION: Location: R.E. Good Sports Complex - Carrollton / RE #5
DTSTART:20210425T220000Z
DTEND:20210425T233000Z
END:VEVENT
BEGIN:VEVENT
UID:360023
DTSTAMP:20260419T134200Z
SUMMARY: Game:360023: Boones United VS Texas Elite 04
DESCRIPTION: Location: Five Star Complex - The Colony / FS #2
DTSTART:20210509T180000Z
DTEND:20210509T193000Z
END:VEVENT
BEGIN:VEVENT
UID:360003
DTSTAMP:20260419T134200Z
SUMMARY: Game:360003: Texas Elite 04 VS Vietnam Dallas FC 30
DESCRIPTION: Location: Five Star Complex - The Colony / FS #6
DTSTART:20210616T234500Z
DTEND:20210617T011500Z
END:VEVENT
END:VCALENDAR
