BEGIN:VCALENDAR
VERSION:2.0
PRODID:-//SportsPilot + North Texas Premier Soccer Association/
METHOD:PUBLISH
BEGIN:VEVENT
UID:360006
DTSTAMP:20260419T151500Z
SUMMARY: Game:360006: MARU FC VS Boones United
DESCRIPTION: Location: Five Star Complex - The Colony / FS #6
DTSTART:20210307T230000Z
DTEND:20210308T003000Z
END:VEVENT
BEGIN:VEVENT
UID:360008
DTSTAMP:20260419T151500Z
SUMMARY: Game:360008: MARU FC VS Vietnam Dallas FC 30
DESCRIPTION: Location: Five Star Complex - The Colony / FS #6
DTSTART:20210314T220000Z
DTEND:20210314T233000Z
END:VEVENT
BEGIN:VEVENT
UID:360010
DTSTAMP:20260419T151500Z
SUMMARY: Game:360010: MARU FC VS Texas Elite 04
DESCRIPTION: Location: Five Star Complex - The Colony / FS #8
DTSTART:20210321T220000Z
DTEND:20210321T233000Z
END:VEVENT
BEGIN:VEVENT
UID:360019
DTSTAMP:20260419T151500Z
SUMMARY: Game:360019: Boones United VS MARU FC
DESCRIPTION: Location: Five Star Complex - The Colony / FS #6
DTSTART:20210411T220000Z
DTEND:20210411T233000Z
END:VEVENT
BEGIN:VEVENT
UID:360017
DTSTAMP:20260419T151500Z
SUMMARY: Game:360017: Stars UTD VS MARU FC
DESCRIPTION: Location: R.E. Good Sports Complex - Carrollton / RE #4
DTSTART:20210425T220000Z
DTEND:20210425T233000Z
END:VEVENT
BEGIN:VEVENT
UID:360015
DTSTAMP:20260419T151500Z
SUMMARY: Game:360015: MARU FC VS Cruz Azul
DESCRIPTION: Location: Breckinridge Park A - Richardson / BP #A11
DTSTART:20210509T200000Z
DTEND:20210509T213000Z
END:VEVENT
BEGIN:VEVENT
UID:360024
DTSTAMP:20260419T151500Z
SUMMARY: Game:360024: Vietnam Dallas FC 30 VS MARU FC
DESCRIPTION: Location: R.E. Good Sports Complex - Carrollton / RE #4
DTSTART:20210516T200000Z
DTEND:20210516T213000Z
END:VEVENT
BEGIN:VEVENT
UID:360001
DTSTAMP:20260419T151500Z
SUMMARY: Game:360001: Stars UTD VS MARU FC
DESCRIPTION: Location: R.E. Good Sports Complex - Carrollton / Veterans B
DTSTART:20210609T234500Z
DTEND:20210610T011500Z
END:VEVENT
END:VCALENDAR
