BEGIN:VCALENDAR
VERSION:2.0
PRODID:-//SportsPilot + North Texas Premier Soccer Association/
METHOD:PUBLISH
BEGIN:VEVENT
UID:360004
DTSTAMP:20260419T151600Z
SUMMARY: Game:360004: Vietnam Dallas FC 30 VS Stars UTD
DESCRIPTION: Location: Five Star Complex - The Colony / FS #6
DTSTART:20210307T190000Z
DTEND:20210307T203000Z
END:VEVENT
BEGIN:VEVENT
UID:360008
DTSTAMP:20260419T151600Z
SUMMARY: Game:360008: MARU FC VS Vietnam Dallas FC 30
DESCRIPTION: Location: Five Star Complex - The Colony / FS #6
DTSTART:20210314T220000Z
DTEND:20210314T233000Z
END:VEVENT
BEGIN:VEVENT
UID:360011
DTSTAMP:20260419T151600Z
SUMMARY: Game:360011: Cruz Azul VS Vietnam Dallas FC 30
DESCRIPTION: Location: Five Star Complex - The Colony / FS #2
DTSTART:20210321T220000Z
DTEND:20210321T233000Z
END:VEVENT
BEGIN:VEVENT
UID:360014
DTSTAMP:20260419T151600Z
SUMMARY: Game:360014: Vietnam Dallas FC 30 VS Boones United
DESCRIPTION: Location: Five Star Complex - The Colony / FS #8
DTSTART:20210328T180000Z
DTEND:20210328T193000Z
END:VEVENT
BEGIN:VEVENT
UID:360020
DTSTAMP:20260419T151600Z
SUMMARY: Game:360020: Stars UTD VS Vietnam Dallas FC 30
DESCRIPTION: Location: Five Star Complex - The Colony / FS #8
DTSTART:20210411T180000Z
DTEND:20210411T193000Z
END:VEVENT
BEGIN:VEVENT
UID:360016
DTSTAMP:20260419T151600Z
SUMMARY: Game:360016: Vietnam Dallas FC 30 VS Texas Elite 04
DESCRIPTION: Location: R.E. Good Sports Complex - Carrollton / RE #5
DTSTART:20210425T220000Z
DTEND:20210425T233000Z
END:VEVENT
BEGIN:VEVENT
UID:360024
DTSTAMP:20260419T151600Z
SUMMARY: Game:360024: Vietnam Dallas FC 30 VS MARU FC
DESCRIPTION: Location: R.E. Good Sports Complex - Carrollton / RE #4
DTSTART:20210516T200000Z
DTEND:20210516T213000Z
END:VEVENT
BEGIN:VEVENT
UID:360003
DTSTAMP:20260419T151600Z
SUMMARY: Game:360003: Texas Elite 04 VS Vietnam Dallas FC 30
DESCRIPTION: Location: Five Star Complex - The Colony / FS #6
DTSTART:20210616T234500Z
DTEND:20210617T011500Z
END:VEVENT
END:VCALENDAR
