BEGIN:VCALENDAR
VERSION:2.0
PRODID:-//SportsPilot + North Texas Premier Soccer Association/
METHOD:PUBLISH
BEGIN:VEVENT
UID:80002
DTSTAMP:20260424T190900Z
SUMMARY: Game:80002: NORTH DALLAS FORTY VS RANGERS FC 09
DESCRIPTION: Location: Five Star Complex - The Colony / FS #1
DTSTART:20200913T180000Z
DTEND:20200913T193000Z
END:VEVENT
BEGIN:VEVENT
UID:80005
DTSTAMP:20260424T190900Z
SUMMARY: Game:80005: NORTH DALLAS FORTY VS Titans 30
DESCRIPTION: Location: Five Star Complex - The Colony / FS #8
DTSTART:20200921T000000Z
DTEND:20200921T013000Z
END:VEVENT
BEGIN:VEVENT
UID:80009
DTSTAMP:20260424T190900Z
SUMMARY: Game:80009: NORTH DALLAS FORTY VS NEXUS FC
DESCRIPTION: Location: Five Star Complex - The Colony / FS #8
DTSTART:20200927T200000Z
DTEND:20200927T213000Z
END:VEVENT
BEGIN:VEVENT
UID:80011
DTSTAMP:20260424T190900Z
SUMMARY: Game:80011: NORTH DALLAS FORTY VS VN UNITED- SAIGON
DESCRIPTION: Location: Breckinridge Park A - Richardson / BP #A11
DTSTART:20201004T160000Z
DTEND:20201004T173000Z
END:VEVENT
BEGIN:VEVENT
UID:80015
DTSTAMP:20260424T190900Z
SUMMARY: Game:80015: FSC HELIX BEAST VS NORTH DALLAS FORTY
DESCRIPTION: Location: R.E. Good Sports Complex - Carrollton / RE #5
DTSTART:20201011T180000Z
DTEND:20201011T193000Z
END:VEVENT
BEGIN:VEVENT
UID:80018
DTSTAMP:20260424T190900Z
SUMMARY: Game:80018: RANGERS FC 09 VS NORTH DALLAS FORTY
DESCRIPTION: Location: R.E. Good Sports Complex - Carrollton / RE #5
DTSTART:20201018T180000Z
DTEND:20201018T193000Z
END:VEVENT
BEGIN:VEVENT
UID:80021
DTSTAMP:20260424T190900Z
SUMMARY: Game:80021: Titans 30 VS NORTH DALLAS FORTY
DESCRIPTION: Location: Five Star Complex - The Colony / FS #1
DTSTART:20201025T220000Z
DTEND:20201025T233000Z
END:VEVENT
BEGIN:VEVENT
UID:80022
DTSTAMP:20260424T190900Z
SUMMARY: Game:80022: NEXUS FC VS NORTH DALLAS FORTY
DESCRIPTION: Location: Five Star Complex - The Colony / FS #8
DTSTART:20201101T170000Z
DTEND:20201101T183000Z
END:VEVENT
END:VCALENDAR
